Package: MANOR Version: 1.79.0 Command: /Library/Frameworks/R.framework/Resources/bin/R CMD INSTALL MANOR StartedAt: 2025-02-09 15:05:04 -0500 (Sun, 09 Feb 2025) EndedAt: 2025-02-09 15:05:14 -0500 (Sun, 09 Feb 2025) EllapsedTime: 10.2 seconds RetCode: 1 Status: ERROR