Package: MANOR Version: 1.79.0 Command: /home/biocbuild/bbs-3.21-bioc/R/bin/R CMD build --keep-empty-dirs --no-resave-data MANOR StartedAt: 2025-02-09 17:55:06 -0500 (Sun, 09 Feb 2025) EndedAt: 2025-02-09 17:55:07 -0500 (Sun, 09 Feb 2025) EllapsedTime: 1.0 seconds RetCode: 1 Status: ERROR PackageFile: None PackageFileSize: NA