Package: MANOR Version: 1.79.0 Command: chmod a+r MANOR -R && E:\biocbuild\bbs-3.21-bioc\R\bin\R.exe CMD build --keep-empty-dirs --no-resave-data MANOR StartedAt: 2025-02-09 19:38:01 -0500 (Sun, 09 Feb 2025) EndedAt: 2025-02-09 19:38:07 -0500 (Sun, 09 Feb 2025) EllapsedTime: 6.1 seconds RetCode: 1 Status: ERROR PackageFile: None PackageFileSize: NA