Package: MANOR Version: 1.79.0 Command: E:\biocbuild\bbs-3.21-bioc\R\bin\R.exe CMD check --no-multiarch --install=check:MANOR.install-out.txt --library=E:\biocbuild\bbs-3.21-bioc\R\library --no-vignettes --timings MANOR_1.79.0.tar.gz StartedAt: 2025-01-22 02:35:27 -0500 (Wed, 22 Jan 2025) EndedAt: 2025-01-22 02:36:16 -0500 (Wed, 22 Jan 2025) EllapsedTime: 48.8 seconds RetCode: 0 Status: WARNINGS CheckDir: MANOR.Rcheck Warnings: 1