Package: MAPFX Version: 1.3.0 Command: /Library/Frameworks/R.framework/Resources/bin/R CMD check --install=check:MAPFX.install-out.txt --library=/Library/Frameworks/R.framework/Resources/library --no-vignettes --timings MAPFX_1.3.0.tar.gz StartedAt: 2025-02-09 19:54:34 -0500 (Sun, 09 Feb 2025) EndedAt: 2025-02-09 19:59:04 -0500 (Sun, 09 Feb 2025) EllapsedTime: 270.2 seconds RetCode: 0 Status: OK CheckDir: MAPFX.Rcheck Warnings: 0