Package: MAPFX Version: 1.3.0 Command: /home/biocbuild/R/R/bin/R CMD build --keep-empty-dirs --no-resave-data MAPFX StartedAt: 2025-01-28 23:59:18 -0000 (Tue, 28 Jan 2025) EndedAt: 2025-01-29 00:09:45 -0000 (Wed, 29 Jan 2025) EllapsedTime: 627.2 seconds RetCode: 0 Status: OK PackageFile: MAPFX_1.3.0.tar.gz PackageFileSize: 3.569 MiB