Package: MAPFX Version: 1.3.0 Command: /home/biocbuild/R/R/bin/R CMD check --install=check:MAPFX.install-out.txt --library=/home/biocbuild/R/R/site-library --no-vignettes --timings MAPFX_1.3.0.tar.gz StartedAt: 2025-01-28 12:02:06 -0000 (Tue, 28 Jan 2025) EndedAt: 2025-01-28 12:16:21 -0000 (Tue, 28 Jan 2025) EllapsedTime: 855.0 seconds RetCode: 0 Status: OK CheckDir: MAPFX.Rcheck Warnings: 0