Package: MAPFX Version: 1.3.0 Command: /Library/Frameworks/R.framework/Resources/bin/R CMD build --keep-empty-dirs --no-resave-data MAPFX StartedAt: 2025-02-09 17:17:50 -0500 (Sun, 09 Feb 2025) EndedAt: 2025-02-09 17:26:22 -0500 (Sun, 09 Feb 2025) EllapsedTime: 511.6 seconds RetCode: 0 Status: OK PackageFile: MAPFX_1.3.0.tar.gz PackageFileSize: 3.543 MiB