Package: MAPFX Version: 1.3.0 Command: /Library/Frameworks/R.framework/Resources/bin/R CMD INSTALL MAPFX StartedAt: 2025-02-09 15:44:04 -0500 (Sun, 09 Feb 2025) EndedAt: 2025-02-09 15:44:35 -0500 (Sun, 09 Feb 2025) EllapsedTime: 30.6 seconds RetCode: 0 Status: OK