Package: MAPFX Version: 1.3.0 Command: /home/biocbuild/bbs-3.21-bioc/R/bin/R CMD build --keep-empty-dirs --no-resave-data MAPFX StartedAt: 2025-02-09 17:55:08 -0500 (Sun, 09 Feb 2025) EndedAt: 2025-02-09 18:02:38 -0500 (Sun, 09 Feb 2025) EllapsedTime: 450.5 seconds RetCode: 0 Status: OK PackageFile: MAPFX_1.3.0.tar.gz PackageFileSize: 3.543 MiB