Package: MAPFX Version: 1.3.0 Command: /home/biocbuild/bbs-3.21-bioc/R/bin/R CMD check --install=check:MAPFX.install-out.txt --library=/home/biocbuild/bbs-3.21-bioc/R/site-library --timings MAPFX_1.3.0.tar.gz StartedAt: 2025-02-09 23:44:56 -0500 (Sun, 09 Feb 2025) EndedAt: 2025-02-10 00:02:40 -0500 (Mon, 10 Feb 2025) EllapsedTime: 1064.3 seconds RetCode: 0 Status: OK CheckDir: MAPFX.Rcheck Warnings: 0