Package: MAPFX Version: 1.3.0 Command: rm -rf MAPFX.buildbin-libdir && mkdir MAPFX.buildbin-libdir && E:\biocbuild\bbs-3.21-bioc\R\bin\R.exe CMD INSTALL --build --library=MAPFX.buildbin-libdir MAPFX_1.3.0.tar.gz StartedAt: 2025-02-10 08:04:02 -0500 (Mon, 10 Feb 2025) EndedAt: 2025-02-10 08:04:33 -0500 (Mon, 10 Feb 2025) EllapsedTime: 31.0 seconds RetCode: 0 Status: OK PackageFile: MAPFX_1.3.0.zip PackageFileSize: 2.508 MiB