Package: MAPFX Version: 1.3.0 Command: chmod a+r MAPFX -R && E:\biocbuild\bbs-3.21-bioc\R\bin\R.exe CMD build --keep-empty-dirs --no-resave-data MAPFX StartedAt: 2025-02-09 19:38:08 -0500 (Sun, 09 Feb 2025) EndedAt: 2025-02-09 19:50:37 -0500 (Sun, 09 Feb 2025) EllapsedTime: 749.1 seconds RetCode: 0 Status: OK PackageFile: MAPFX_1.3.0.tar.gz PackageFileSize: 3.543 MiB