Package: MAPFX Version: 1.3.0 Command: E:\biocbuild\bbs-3.21-bioc\R\bin\R.exe CMD check --no-multiarch --install=check:MAPFX.install-out.txt --library=E:\biocbuild\bbs-3.21-bioc\R\library --no-vignettes --timings MAPFX_1.3.0.tar.gz StartedAt: 2025-02-10 02:31:33 -0500 (Mon, 10 Feb 2025) EndedAt: 2025-02-10 02:48:04 -0500 (Mon, 10 Feb 2025) EllapsedTime: 991.7 seconds RetCode: 0 Status: OK CheckDir: MAPFX.Rcheck Warnings: 0