Package: MAPFX Version: 1.3.0 Command: E:\biocbuild\bbs-3.21-bioc\R\bin\R.exe CMD INSTALL MAPFX StartedAt: 2025-02-09 16:05:25 -0500 (Sun, 09 Feb 2025) EndedAt: 2025-02-09 16:06:18 -0500 (Sun, 09 Feb 2025) EllapsedTime: 53.2 seconds RetCode: 0 Status: OK