Package: MAST Version: 1.33.0 Command: /Library/Frameworks/R.framework/Resources/bin/R CMD INSTALL MAST StartedAt: 2025-02-12 15:06:01 -0500 (Wed, 12 Feb 2025) EndedAt: 2025-02-12 15:06:17 -0500 (Wed, 12 Feb 2025) EllapsedTime: 16.1 seconds RetCode: 0 Status: OK