Package: MAST Version: 1.33.0 Command: /Library/Frameworks/R.framework/Resources/bin/R CMD check --install=check:MAST.install-out.txt --library=/Library/Frameworks/R.framework/Resources/library --no-vignettes --timings MAST_1.33.0.tar.gz StartedAt: 2025-02-09 21:40:48 -0500 (Sun, 09 Feb 2025) EndedAt: 2025-02-09 21:46:13 -0500 (Sun, 09 Feb 2025) EllapsedTime: 324.9 seconds RetCode: 0 Status: WARNINGS CheckDir: MAST.Rcheck Warnings: 1