Package: MAST Version: 1.33.0 Command: /home/biocbuild/bbs-3.21-bioc/R/bin/R CMD build --keep-empty-dirs --no-resave-data MAST StartedAt: 2025-02-09 17:56:30 -0500 (Sun, 09 Feb 2025) EndedAt: 2025-02-09 18:00:42 -0500 (Sun, 09 Feb 2025) EllapsedTime: 252.3 seconds RetCode: 0 Status: OK PackageFile: MAST_1.33.0.tar.gz PackageFileSize: 7.266 MiB