Package: MAST Version: 1.33.0 Command: /home/biocbuild/bbs-3.21-bioc/R/bin/R CMD INSTALL MAST StartedAt: 2025-02-09 15:19:38 -0500 (Sun, 09 Feb 2025) EndedAt: 2025-02-09 15:20:18 -0500 (Sun, 09 Feb 2025) EllapsedTime: 40.1 seconds RetCode: 0 Status: OK