Package: MAST Version: 1.33.0 Command: rm -rf MAST.buildbin-libdir && mkdir MAST.buildbin-libdir && E:\biocbuild\bbs-3.21-bioc\R\bin\R.exe CMD INSTALL --build --library=MAST.buildbin-libdir MAST_1.33.0.tar.gz StartedAt: 2025-02-10 08:04:38 -0500 (Mon, 10 Feb 2025) EndedAt: 2025-02-10 08:06:01 -0500 (Mon, 10 Feb 2025) EllapsedTime: 82.9 seconds RetCode: 0 Status: OK PackageFile: MAST_1.33.0.zip PackageFileSize: 6.075 MiB