Package: MBASED Version: 1.41.0 Command: rm -rf MBASED.buildbin-libdir && mkdir MBASED.buildbin-libdir && /Users/biocbuild/BBS/utils/build-universal.sh MBASED_1.41.0.tar.gz /Library/Frameworks/R.framework/Resources/bin/R MBASED.buildbin-libdir StartedAt: 2025-02-12 22:25:05 -0500 (Wed, 12 Feb 2025) EndedAt: 2025-02-12 22:25:15 -0500 (Wed, 12 Feb 2025) EllapsedTime: 10.3 seconds RetCode: 0 Status: OK PackageFile: MBASED_1.41.0.tgz PackageFileSize: 498.4 KiB