Package: MBASED Version: 1.41.0 Command: /Library/Frameworks/R.framework/Resources/bin/R CMD build --keep-empty-dirs --no-resave-data MBASED StartedAt: 2025-02-12 17:15:29 -0500 (Wed, 12 Feb 2025) EndedAt: 2025-02-12 17:17:30 -0500 (Wed, 12 Feb 2025) EllapsedTime: 121.0 seconds RetCode: 0 Status: OK PackageFile: MBASED_1.41.0.tar.gz PackageFileSize: 364.7 KiB