Package: MBASED Version: 1.41.0 Command: chmod a+r MBASED -R && E:\biocbuild\bbs-3.21-bioc\R\bin\R.exe CMD build --keep-empty-dirs --no-resave-data MBASED StartedAt: 2025-02-12 19:46:45 -0500 (Wed, 12 Feb 2025) EndedAt: 2025-02-12 19:49:38 -0500 (Wed, 12 Feb 2025) EllapsedTime: 173.3 seconds RetCode: 0 Status: OK PackageFile: MBASED_1.41.0.tar.gz PackageFileSize: 365.9 KiB