Package: MBCB Version: 1.61.0 Command: rm -rf MBCB.buildbin-libdir && mkdir MBCB.buildbin-libdir && /Users/biocbuild/BBS/utils/build-universal.sh MBCB_1.61.0.tar.gz /Library/Frameworks/R.framework/Resources/bin/R MBCB.buildbin-libdir StartedAt: 2025-02-09 22:19:51 -0500 (Sun, 09 Feb 2025) EndedAt: 2025-02-09 22:19:55 -0500 (Sun, 09 Feb 2025) EllapsedTime: 4.1 seconds RetCode: 0 Status: OK PackageFile: MBCB_1.61.0.tgz PackageFileSize: 471.5 KiB