Package: MBCB Version: 1.61.0 Command: /Library/Frameworks/R.framework/Resources/bin/R CMD check --install=check:MBCB.install-out.txt --library=/Library/Frameworks/R.framework/Resources/library --no-vignettes --timings MBCB_1.61.0.tar.gz StartedAt: 2025-02-09 19:56:23 -0500 (Sun, 09 Feb 2025) EndedAt: 2025-02-09 19:56:35 -0500 (Sun, 09 Feb 2025) EllapsedTime: 12.1 seconds RetCode: 0 Status: OK CheckDir: MBCB.Rcheck Warnings: 0