Package: MBCB Version: 1.61.0 Command: /Library/Frameworks/R.framework/Resources/bin/R CMD INSTALL MBCB StartedAt: 2025-02-03 15:36:17 -0500 (Mon, 03 Feb 2025) EndedAt: 2025-02-03 15:36:19 -0500 (Mon, 03 Feb 2025) EllapsedTime: 1.8 seconds RetCode: 0 Status: OK