Package: MBCB Version: 1.61.0 Command: /home/biocbuild/R/R/bin/R CMD build --keep-empty-dirs --no-resave-data MBCB StartedAt: 2025-01-29 00:02:44 -0000 (Wed, 29 Jan 2025) EndedAt: 2025-01-29 00:02:52 -0000 (Wed, 29 Jan 2025) EllapsedTime: 8.0 seconds RetCode: 0 Status: OK PackageFile: MBCB_1.61.0.tar.gz PackageFileSize: 403.5 KiB