Package: MBCB Version: 1.61.0 Command: /Library/Frameworks/R.framework/Resources/bin/R CMD build --keep-empty-dirs --no-resave-data MBCB StartedAt: 2025-02-09 17:19:10 -0500 (Sun, 09 Feb 2025) EndedAt: 2025-02-09 17:19:22 -0500 (Sun, 09 Feb 2025) EllapsedTime: 12.5 seconds RetCode: 0 Status: OK PackageFile: MBCB_1.61.0.tar.gz PackageFileSize: 409.4 KiB