Package: MBCB Version: 1.61.0 Command: /Library/Frameworks/R.framework/Resources/bin/R CMD check --install=check:MBCB.install-out.txt --library=/Library/Frameworks/R.framework/Resources/library --no-vignettes --timings MBCB_1.61.0.tar.gz StartedAt: 2025-02-09 21:41:30 -0500 (Sun, 09 Feb 2025) EndedAt: 2025-02-09 21:42:03 -0500 (Sun, 09 Feb 2025) EllapsedTime: 33.4 seconds RetCode: 0 Status: OK CheckDir: MBCB.Rcheck Warnings: 0