Package: MBCB Version: 1.61.0 Command: /home/biocbuild/bbs-3.21-bioc/R/bin/R CMD build --keep-empty-dirs --no-resave-data MBCB StartedAt: 2025-02-04 17:55:07 -0500 (Tue, 04 Feb 2025) EndedAt: 2025-02-04 17:55:14 -0500 (Tue, 04 Feb 2025) EllapsedTime: 7.0 seconds RetCode: 0 Status: OK PackageFile: MBCB_1.61.0.tar.gz PackageFileSize: 410.2 KiB