Package: MBCB Version: 1.61.0 Command: chmod a+r MBCB -R && E:\biocbuild\bbs-3.21-bioc\R\bin\R.exe CMD build --keep-empty-dirs --no-resave-data MBCB StartedAt: 2025-02-09 19:41:43 -0500 (Sun, 09 Feb 2025) EndedAt: 2025-02-09 19:41:58 -0500 (Sun, 09 Feb 2025) EllapsedTime: 15.0 seconds RetCode: 0 Status: OK PackageFile: MBCB_1.61.0.tar.gz PackageFileSize: 318.1 KiB