Package: MBCB Version: 1.61.0 Command: E:\biocbuild\bbs-3.21-bioc\R\bin\R.exe CMD check --no-multiarch --install=check:MBCB.install-out.txt --library=E:\biocbuild\bbs-3.21-bioc\R\library --no-vignettes --timings MBCB_1.61.0.tar.gz StartedAt: 2025-02-10 02:34:59 -0500 (Mon, 10 Feb 2025) EndedAt: 2025-02-10 02:35:31 -0500 (Mon, 10 Feb 2025) EllapsedTime: 32.0 seconds RetCode: 0 Status: OK CheckDir: MBCB.Rcheck Warnings: 0