Package: MBCB Version: 1.61.0 Command: E:\biocbuild\bbs-3.21-bioc\R\bin\R.exe CMD INSTALL MBCB StartedAt: 2025-02-04 15:18:24 -0500 (Tue, 04 Feb 2025) EndedAt: 2025-02-04 15:18:35 -0500 (Tue, 04 Feb 2025) EllapsedTime: 11.0 seconds RetCode: 0 Status: OK