Package: MBECS Version: 1.11.0 Command: rm -rf MBECS.buildbin-libdir && mkdir MBECS.buildbin-libdir && /Users/biocbuild/BBS/utils/build-universal.sh MBECS_1.11.0.tar.gz /Library/Frameworks/R.framework/Resources/bin/R MBECS.buildbin-libdir StartedAt: 2025-02-09 22:19:51 -0500 (Sun, 09 Feb 2025) EndedAt: 2025-02-09 22:20:00 -0500 (Sun, 09 Feb 2025) EllapsedTime: 9.2 seconds RetCode: 0 Status: OK PackageFile: MBECS_1.11.0.tgz PackageFileSize: 806.8 KiB