Package: MBECS Version: 1.11.0 Command: /Library/Frameworks/R.framework/Resources/bin/R CMD INSTALL MBECS StartedAt: 2025-02-09 15:22:36 -0500 (Sun, 09 Feb 2025) EndedAt: 2025-02-09 15:22:44 -0500 (Sun, 09 Feb 2025) EllapsedTime: 7.5 seconds RetCode: 0 Status: OK