Package: MBECS Version: 1.11.0 Command: /home/biocbuild/R/R/bin/R CMD build --keep-empty-dirs --no-resave-data MBECS StartedAt: 2025-01-29 00:02:52 -0000 (Wed, 29 Jan 2025) EndedAt: 2025-01-29 00:04:23 -0000 (Wed, 29 Jan 2025) EllapsedTime: 91.0 seconds RetCode: 0 Status: OK PackageFile: MBECS_1.11.0.tar.gz PackageFileSize: 1.485 MiB