Package: MBECS Version: 1.11.0 Command: /home/biocbuild/R/R/bin/R CMD INSTALL MBECS StartedAt: 2025-01-29 20:22:57 -0000 (Wed, 29 Jan 2025) EndedAt: 2025-01-29 20:23:27 -0000 (Wed, 29 Jan 2025) EllapsedTime: 29.4 seconds RetCode: 0 Status: OK