Package: MBECS Version: 1.11.0 Command: /Library/Frameworks/R.framework/Resources/bin/R CMD INSTALL MBECS StartedAt: 2025-02-09 15:36:55 -0500 (Sun, 09 Feb 2025) EndedAt: 2025-02-09 15:37:23 -0500 (Sun, 09 Feb 2025) EllapsedTime: 27.9 seconds RetCode: 0 Status: OK