Package: MBECS Version: 1.11.0 Command: chmod a+r MBECS -R && E:\biocbuild\bbs-3.21-bioc\R\bin\R.exe CMD build --keep-empty-dirs --no-resave-data MBECS StartedAt: 2025-02-09 19:41:53 -0500 (Sun, 09 Feb 2025) EndedAt: 2025-02-09 19:43:29 -0500 (Sun, 09 Feb 2025) EllapsedTime: 95.5 seconds RetCode: 0 Status: OK PackageFile: MBECS_1.11.0.tar.gz PackageFileSize: 1.452 MiB