Package: MBQN Version: 2.19.0 Command: rm -rf MBQN.buildbin-libdir && mkdir MBQN.buildbin-libdir && /Users/biocbuild/BBS/utils/build-universal.sh MBQN_2.19.0.tar.gz /Library/Frameworks/R.framework/Resources/bin/R MBQN.buildbin-libdir StartedAt: 2025-02-09 22:19:54 -0500 (Sun, 09 Feb 2025) EndedAt: 2025-02-09 22:19:56 -0500 (Sun, 09 Feb 2025) EllapsedTime: 2.0 seconds RetCode: 0 Status: OK PackageFile: MBQN_2.19.0.tgz PackageFileSize: 283.6 KiB