Package: MBQN Version: 2.19.0 Command: /Library/Frameworks/R.framework/Resources/bin/R CMD INSTALL MBQN StartedAt: 2025-02-09 15:15:38 -0500 (Sun, 09 Feb 2025) EndedAt: 2025-02-09 15:15:39 -0500 (Sun, 09 Feb 2025) EllapsedTime: 1.8 seconds RetCode: 0 Status: OK