Package: MBQN Version: 2.19.0 Command: /home/biocbuild/R/R/bin/R CMD INSTALL MBQN StartedAt: 2025-01-29 20:06:50 -0000 (Wed, 29 Jan 2025) EndedAt: 2025-01-29 20:06:54 -0000 (Wed, 29 Jan 2025) EllapsedTime: 3.4 seconds RetCode: 0 Status: OK