Package: MBQN Version: 2.19.0 Command: chmod a+r MBQN -R && E:\biocbuild\bbs-3.21-bioc\R\bin\R.exe CMD build --keep-empty-dirs --no-resave-data MBQN StartedAt: 2025-02-09 19:42:04 -0500 (Sun, 09 Feb 2025) EndedAt: 2025-02-09 19:42:19 -0500 (Sun, 09 Feb 2025) EllapsedTime: 15.7 seconds RetCode: 0 Status: OK PackageFile: MBQN_2.19.0.tar.gz PackageFileSize: 78.45 KiB