Package: MBQN Version: 2.19.0 Command: E:\biocbuild\bbs-3.21-bioc\R\bin\R.exe CMD INSTALL MBQN StartedAt: 2025-02-09 16:14:07 -0500 (Sun, 09 Feb 2025) EndedAt: 2025-02-09 16:14:14 -0500 (Sun, 09 Feb 2025) EllapsedTime: 7.8 seconds RetCode: 0 Status: OK