Package: MDTS Version: 1.27.0 Command: /Library/Frameworks/R.framework/Resources/bin/R CMD build --keep-empty-dirs --no-resave-data MDTS StartedAt: 2025-02-09 16:50:07 -0500 (Sun, 09 Feb 2025) EndedAt: 2025-02-09 16:50:23 -0500 (Sun, 09 Feb 2025) EllapsedTime: 16.2 seconds RetCode: 0 Status: OK PackageFile: MDTS_1.27.0.tar.gz PackageFileSize: 31.41 KiB