Package: MDTS Version: 1.27.0 Command: /Library/Frameworks/R.framework/Resources/bin/R CMD INSTALL MDTS StartedAt: 2025-02-09 15:10:02 -0500 (Sun, 09 Feb 2025) EndedAt: 2025-02-09 15:10:14 -0500 (Sun, 09 Feb 2025) EllapsedTime: 12.3 seconds RetCode: 0 Status: OK