Package: MDTS Version: 1.27.0 Command: /home/biocbuild/R/R/bin/R CMD INSTALL MDTS StartedAt: 2025-01-29 19:53:17 -0000 (Wed, 29 Jan 2025) EndedAt: 2025-01-29 19:53:51 -0000 (Wed, 29 Jan 2025) EllapsedTime: 34.1 seconds RetCode: 0 Status: OK