Package: MDTS Version: 1.27.0 Command: /home/biocbuild/bbs-3.21-bioc/R/bin/R CMD INSTALL MDTS StartedAt: 2025-02-09 15:25:13 -0500 (Sun, 09 Feb 2025) EndedAt: 2025-02-09 15:25:38 -0500 (Sun, 09 Feb 2025) EllapsedTime: 25.1 seconds RetCode: 0 Status: OK