Package: MDTS Version: 1.27.0 Command: chmod a+r MDTS -R && E:\biocbuild\bbs-3.21-bioc\R\bin\R.exe CMD build --keep-empty-dirs --no-resave-data MDTS StartedAt: 2025-02-09 19:43:19 -0500 (Sun, 09 Feb 2025) EndedAt: 2025-02-09 19:44:10 -0500 (Sun, 09 Feb 2025) EllapsedTime: 51.1 seconds RetCode: 0 Status: OK PackageFile: MDTS_1.27.0.tar.gz PackageFileSize: 31.67 KiB