Package: MDTS Version: 1.27.0 Command: E:\biocbuild\bbs-3.21-bioc\R\bin\R.exe CMD INSTALL MDTS StartedAt: 2025-02-09 16:16:17 -0500 (Sun, 09 Feb 2025) EndedAt: 2025-02-09 16:16:45 -0500 (Sun, 09 Feb 2025) EllapsedTime: 28.4 seconds RetCode: 0 Status: OK